BEGIN:VCALENDAR
VERSION:2.0
PRODID:-//群馬県空手道連盟 - ECPv6.15.17.1//NONSGML v1.0//EN
CALSCALE:GREGORIAN
METHOD:PUBLISH
X-ORIGINAL-URL:https://gunkuren.jp
X-WR-CALDESC:群馬県空手道連盟 のイベント
REFRESH-INTERVAL;VALUE=DURATION:PT1H
X-Robots-Tag:noindex
X-PUBLISHED-TTL:PT1H
BEGIN:VTIMEZONE
TZID:Asia/Tokyo
BEGIN:STANDARD
TZOFFSETFROM:+0900
TZOFFSETTO:+0900
TZNAME:JST
DTSTART:20250101T000000
END:STANDARD
END:VTIMEZONE
BEGIN:VEVENT
DTSTART;VALUE=DATE:20260515
DTEND;VALUE=DATE:20260518
DTSTAMP:20260422T190809
CREATED:20240506T021757Z
LAST-MODIFIED:20260405T112553Z
UID:3290-1778803200-1779062399@gunkuren.jp
SUMMARY:第61回県高校総体（兼第55回関東大会県予選会）
DESCRIPTION:  \n 
URL:https://gunkuren.jp/event/highschool_soutai/
LOCATION:ALSOK　ぐんま武道館\, 群馬県前橋市\, 関根町800\, Japan
CATEGORIES:高体連大会
ATTACH;FMTTYPE=image/jpeg:https://gunkuren.jp/wp-content/uploads/2025/04/may.jpg
END:VEVENT
END:VCALENDAR